BEGIN:VCALENDAR
VERSION:2.0
PRODID:-//Gabriela Gómez
CALSCALE:GREGORIAN
METHOD:PUBLISH
X-WR-CALNAME:Gabriela Gómez
X-ORIGINAL-URL:https://gabrielagomez.org/events/21-de-febrero-el-nacimiento-del-cristo-interior-online-es/
X-WR-CALDESC:21 de febrero &#8211; El Nacimiento del Cristo Interior Online ES
BEGIN:VEVENT
DTSTART;TZID=America/New_York:20260221T100000
DTEND;TZID=America/New_York:20260221T180000
SUMMARY:21 de febrero – El Nacimiento del Cristo Interior Online ES
DESCRIPTION:
URL:https://gabrielagomez.org/events/21-de-febrero-el-nacimiento-del-cristo-interior-online-es/
LOCATION:Online
END:VEVENT
END:VCALENDAR
