BEGIN:VCALENDAR
VERSION:2.0
PRODID:-//Gabriela Gómez
CALSCALE:GREGORIAN
METHOD:PUBLISH
X-WR-CALNAME:Gabriela Gómez
X-ORIGINAL-URL:https://gabrielagomez.org/events/3-al-10-de-mayo-de-2026-viaje-espiritual-la-italia-santa/
X-WR-CALDESC:3 al 10 de mayo de 2026 &#8211; Viaje espiritual LA ITALIA SANTA
BEGIN:VEVENT
DTSTART;TZID=America/New_York:20260503T000000
DTEND;TZID=America/New_York:20260510T200000
SUMMARY:3 al 10 de mayo de 2026 – Viaje espiritual LA ITALIA SANTA
DESCRIPTION:
URL:https://gabrielagomez.org/events/3-al-10-de-mayo-de-2026-viaje-espiritual-la-italia-santa/
LOCATION:Italia
END:VEVENT
END:VCALENDAR
