BEGIN:VCALENDAR
VERSION:2.0
PRODID:-//Gabriela Gómez
CALSCALE:GREGORIAN
METHOD:PUBLISH
X-WR-CALNAME:Gabriela Gómez
X-ORIGINAL-URL:https://gabrielagomez.org/events/7-y-8-de-marzo-las-7-puertas-del-corazon-en-lausanne-suiza/
X-WR-CALDESC:7 y 8 de Marzo &#8211; Las 7 Puertas del Corazón en Lausanne, Suiza
BEGIN:VEVENT
DTSTART;TZID=America/New_York:20260307T100000
DTEND;TZID=America/New_York:20260308T180000
SUMMARY:7 y 8 de Marzo – Las 7 Puertas del Corazón en Lausanne, Suiza
DESCRIPTION:
URL:https://gabrielagomez.org/events/7-y-8-de-marzo-las-7-puertas-del-corazon-en-lausanne-suiza/
LOCATION:Maison de Paroisse de Belmont, Chem. de la Cure 5B, 1092 Belmont-sur-Lausanne, Suise
END:VEVENT
END:VCALENDAR
