BEGIN:VCALENDAR
VERSION:2.0
PRODID:-//Gabriela Gómez
CALSCALE:GREGORIAN
METHOD:PUBLISH
X-WR-CALNAME:Gabriela Gómez
X-ORIGINAL-URL:https://gabrielagomez.org/events/marzo-1-y-2-canto-de-las-letras-hebreas-en-bretteville-en-saire-normandie/
X-WR-CALDESC:Marzo 1 y 2 &#8211; Canto de las Letras Hebreas en Bretteville en Saire, Normandie
BEGIN:VEVENT
DTSTART;TZID=America/New_York:20250301T100000
DTEND;TZID=America/New_York:20250302T180000
SUMMARY:Marzo 1 y 2 – Canto de las Letras Hebreas en Bretteville en Saire, Normandie
DESCRIPTION:
URL:https://gabrielagomez.org/events/marzo-1-y-2-canto-de-las-letras-hebreas-en-bretteville-en-saire-normandie/
LOCATION:Bretteville en Saire, Normandie
END:VEVENT
END:VCALENDAR
