BEGIN:VCALENDAR
VERSION:2.0
PRODID:-//Gabriela Gómez
CALSCALE:GREGORIAN
METHOD:PUBLISH
X-WR-CALNAME:Gabriela Gómez
X-ORIGINAL-URL:https://gabrielagomez.org/events/17-al-24-de-enero-2026-viaje-a-la-ciudad-intraterrena-de-erks-en-cordoba-argentina/
X-WR-CALDESC:17 al 24 de enero 2026 &#8211; Viaje a la ciudad intraterrena de Erks, en Córdoba, Argentina.
BEGIN:VEVENT
DTSTART;TZID=America/New_York:20260117T060000
DTEND;TZID=America/New_York:20260124T180000
SUMMARY:17 al 24 de enero 2026 – Viaje a la ciudad intraterrena de Erks, en Córdoba, Argentina.
DESCRIPTION:
URL:https://gabrielagomez.org/events/17-al-24-de-enero-2026-viaje-a-la-ciudad-intraterrena-de-erks-en-cordoba-argentina/
LOCATION: Córdoba, Argentina
END:VEVENT
END:VCALENDAR
