BEGIN:VCALENDAR
VERSION:2.0
PRODID:-//Gabriela Gómez
CALSCALE:GREGORIAN
METHOD:PUBLISH
X-WR-CALNAME:Gabriela Gómez
X-ORIGINAL-URL:https://gabrielagomez.org/events/12-y-13-de-abril-canto-de-las-letras-hebreas-online/
X-WR-CALDESC:12 y 13 de abril &#8211; Canto de las Letras Hebreas Online
BEGIN:VEVENT
DTSTART;TZID=America/New_York:20250412T100000
DTEND;TZID=America/New_York:20250413T180000
SUMMARY:12 y 13 de abril – Canto de las Letras Hebreas Online
DESCRIPTION:
URL:https://gabrielagomez.org/events/12-y-13-de-abril-canto-de-las-letras-hebreas-online/
LOCATION:Paris, France
END:VEVENT
END:VCALENDAR
