BEGIN:VCALENDAR
VERSION:2.0
PRODID:-//Gabriela Gómez
CALSCALE:GREGORIAN
METHOD:PUBLISH
X-WR-CALNAME:Gabriela Gómez
X-ORIGINAL-URL:https://gabrielagomez.org/events/febrero-22-y-23-iniciacion-a-los-9-coros-angelicos-en-lyon-francia/
X-WR-CALDESC:Febrero 22 y 23 – Iniciación a los 9 Coros Angélicos en Lyon, Francia
BEGIN:VEVENT
DTSTART;TZID=America/New_York:20250222T100000
DTEND;TZID=America/New_York:20250223T170000
SUMMARY:Febrero 22 y 23 – Iniciación a los 9 Coros Angélicos en Lyon, Francia
DESCRIPTION:
URL:https://gabrielagomez.org/events/febrero-22-y-23-iniciacion-a-los-9-coros-angelicos-en-lyon-francia/
LOCATION:Lyon, France
END:VEVENT
END:VCALENDAR
